BEGIN:VCALENDAR
VERSION:2.0
PRODID:-//Zeta Phi Beta Sorority, Incorporated - ECPv6.15.20//NONSGML v1.0//EN
CALSCALE:GREGORIAN
METHOD:PUBLISH
X-ORIGINAL-URL:https://gloucesterzetas.org
X-WR-CALDESC:Events for Zeta Phi Beta Sorority, Incorporated
REFRESH-INTERVAL;VALUE=DURATION:PT1H
X-Robots-Tag:noindex
X-PUBLISHED-TTL:PT1H
BEGIN:VTIMEZONE
TZID:UTC
BEGIN:STANDARD
TZOFFSETFROM:+0000
TZOFFSETTO:+0000
TZNAME:UTC
DTSTART:20240101T000000
END:STANDARD
END:VTIMEZONE
BEGIN:VEVENT
DTSTART;VALUE=DATE:20251001
DTEND;VALUE=DATE:20251101
DTSTAMP:20260422T115051
CREATED:20160805T235525Z
LAST-MODIFIED:20250625T042343Z
UID:547-1759276800-1761955199@gloucesterzetas.org
SUMMARY:National Domestic Violence Awareness Month
DESCRIPTION:NATIONAL DOMESTIC VIOLENCE AWARENESS MONTH\nNational Domestic Violence Awareness Month is an annual designation observed in October. For many\, home is a place of love\, warmth\, and comfort. It’s somewhere that you know you will be surrounded by care and support\, and a nice little break from the busyness of the real world. But for millions of others\, home is anything but a sanctuary. The U.S. Department of Justice estimates that 1.3 million women and 835\,000 men are victims of physical violence by a partner every year. \nEvery 9 seconds\, a woman in the U.S. is beaten or assaulted by a current or ex-significant other. \n1 in 4 men are victims of some form of physical violence by an intimate partner.
URL:https://gloucesterzetas.org/event/domestic-violence-awareness-day/
LOCATION:NJ
END:VEVENT
END:VCALENDAR