BEGIN:VCALENDAR
VERSION:2.0
PRODID:-//Zeta Phi Beta Sorority, Incorporated - ECPv6.15.20//NONSGML v1.0//EN
CALSCALE:GREGORIAN
METHOD:PUBLISH
X-ORIGINAL-URL:https://gloucesterzetas.org
X-WR-CALDESC:Events for Zeta Phi Beta Sorority, Incorporated
REFRESH-INTERVAL;VALUE=DURATION:PT1H
X-Robots-Tag:noindex
X-PUBLISHED-TTL:PT1H
BEGIN:VTIMEZONE
TZID:UTC
BEGIN:STANDARD
TZOFFSETFROM:+0000
TZOFFSETTO:+0000
TZNAME:UTC
DTSTART:20240101T000000
END:STANDARD
END:VTIMEZONE
BEGIN:VEVENT
DTSTART;VALUE=DATE:20251109
DTEND;VALUE=DATE:20251116
DTSTAMP:20260425T142829
CREATED:20160701T230620Z
LAST-MODIFIED:20250625T041859Z
UID:190-1762646400-1763251199@gloucesterzetas.org
SUMMARY:Military Appreciation Week
DESCRIPTION:
URL:https://gloucesterzetas.org/event/military-appreciation-week/
LOCATION:NJ
END:VEVENT
END:VCALENDAR