BEGIN:VCALENDAR
VERSION:2.0
PRODID:-//Zeta Phi Beta Sorority, Incorporated - ECPv6.15.20//NONSGML v1.0//EN
CALSCALE:GREGORIAN
METHOD:PUBLISH
X-ORIGINAL-URL:https://gloucesterzetas.org
X-WR-CALDESC:Events for Zeta Phi Beta Sorority, Incorporated
REFRESH-INTERVAL;VALUE=DURATION:PT1H
X-Robots-Tag:noindex
X-PUBLISHED-TTL:PT1H
BEGIN:VTIMEZONE
TZID:UTC
BEGIN:STANDARD
TZOFFSETFROM:+0000
TZOFFSETTO:+0000
TZNAME:UTC
DTSTART:20210101T000000
END:STANDARD
END:VTIMEZONE
BEGIN:VEVENT
DTSTART;TZID=UTC:20221226T103000
DTEND;TZID=UTC:20230101T140000
DTSTAMP:20260424T100435
CREATED:20190704T030231Z
LAST-MODIFIED:20221205T163455Z
UID:1149-1672050600-1672581600@gloucesterzetas.org
SUMMARY:Kwanzaa Celebration
DESCRIPTION:Kwanzaa is an African-Americans celebration of life from December 26th to January 1st. Dr. Maulana Karenga introduced the festival in 1966 to the United States as a ritual to welcome the first harvests to the home.
URL:https://gloucesterzetas.org/event/kwanzaa-celebration/
LOCATION:Deptford Library\, 670 Ward Dr\, Deptford\, NJ\, United States
END:VEVENT
END:VCALENDAR